BEGIN:VCALENDAR
VERSION:2.0
PRODID:-//eventon.com NONSGML v1.0//EN
CALSCALE:GREGORIAN
METHOD:PUBLISH
BEGIN:VEVENT
UID:69e73c63f0721
DTSTAMP:20260421T085915Z
DTSTART:20250307T143000Z
DTEND:20250307T153000Z
LOCATION:District Office 9918 Wilkshire Blvd NE
SUMMARY:Board of Directors Meeting
DESCRIPTION:\nhttps://www.timetorecycle.org/events/board-of-directors-meeti
 ng/
URL:https://www.timetorecycle.org/events/board-of-directors-meeting/
END:VEVENT
END:VCALENDAR